BEGIN:VCALENDAR
VERSION:2.0
PRODID:-//ChamberMaster//Event Calendar 2.0//EN
METHOD:PUBLISH
X-PUBLISHED-TTL:P1H
REFRESH-INTERVAL:P1H
CALSCALE:GREGORIAN
BEGIN:VTIMEZONE
TZID:America/Chicago
BEGIN:DAYLIGHT
RRULE:FREQ=YEARLY;BYMONTH=3;BYDAY=2SU
DTSTART:20070101T000000
TZOFFSETFROM:-0600
TZOFFSETTO:-0500
TZNAME:Central Daylight Time
END:DAYLIGHT
BEGIN:STANDARD
RRULE:FREQ=YEARLY;BYMONTH=11;BYDAY=1SU
DTSTART:20070101T000000
TZOFFSETFROM:-0500
TZOFFSETTO:-0600
TZNAME:Central Standard Time
END:STANDARD
END:VTIMEZONE
BEGIN:VEVENT
DTSTART;VALUE=DATE:20250909
DTEND;VALUE=DATE:20250912
TRANSP:TRANSPARENT
X-MICROSOFT-CDO-ALLDAYEVENT:TRUE
SUMMARY:2025 Husker Harvest Days
DESCRIPTION:The Nebraska Trucking Association (NTA) will represent the Nebraska trucking industry at this year's Grand Island\, NE event\, September 9-11\, 2025. Husker Harvest Days is the world's largest totally irrigated working farm show. The NTA is taking advantage of this unique opportunity to reach farmers and ranchers from across the country.We will share the opportunities trucking offers and the entry-level driver and hazmat endorsement training the NTA provides. Eventgoers will also experience what it feels like to be behind the wheel of an 18-wheeler in our truck simulator. Please join us as a volunteer at this year's event\, and share your love for trucking.
X-ALT-DESC;FMTTYPE=text/html:<!DOCTYPE html><html><head><title></title></head><body aria-disabled="false"><p>The Nebraska Trucking Association (NTA) will represent the Nebraska trucking industry at this year&#39\;s Grand Island\, NE event\, September 9-11\, 2025. Husker Harvest Days is the world&#39\;s largest totally irrigated working farm show. The NTA is taking advantage of this unique opportunity to reach farmers and ranchers from across the country.</p><p>We will share the opportunities trucking offers and the entry-level driver and hazmat endorsement training the NTA provides. Eventgoers will also experience what it feels like to be behind the wheel of an 18-wheeler in our truck simulator. Please join us as a volunteer at this year&#39\;s event\, and share your love for trucking.</p></body></html>
LOCATION:9500 W Husker Hwy Wood River NE 68883
UID:e.1326.1261371
SEQUENCE:3
DTSTAMP:20260420T164711Z
URL:https://events.nebtrucking.com/driver-services/Details/2025-husker-harvest-days-1476473?sourceTypeId=Hub
END:VEVENT
END:VCALENDAR
