BEGIN:VCALENDAR
VERSION:2.0
PRODID:-//ChamberMaster//Event Calendar 2.0//EN
METHOD:PUBLISH
X-PUBLISHED-TTL:P1H
REFRESH-INTERVAL:P1H
CALSCALE:GREGORIAN
BEGIN:VTIMEZONE
TZID:America/Chicago
BEGIN:DAYLIGHT
RRULE:FREQ=YEARLY;BYMONTH=3;BYDAY=2SU
DTSTART:20070101T000000
TZOFFSETFROM:-0600
TZOFFSETTO:-0500
TZNAME:Central Daylight Time
END:DAYLIGHT
BEGIN:STANDARD
RRULE:FREQ=YEARLY;BYMONTH=11;BYDAY=1SU
DTSTART:20070101T000000
TZOFFSETFROM:-0500
TZOFFSETTO:-0600
TZNAME:Central Standard Time
END:STANDARD
END:VTIMEZONE
BEGIN:VEVENT
DTSTART;VALUE=DATE:20261108
DTEND;VALUE=DATE:20261111
TRANSP:TRANSPARENT
X-MICROSOFT-CDO-ALLDAYEVENT:TRUE
SUMMARY:2026 Heartland Trucking Summit
DESCRIPTION:The Heartland Trucking Summit brings together the Nebraska Trucking Association's Safety Management Council and Technology & Maintenance Council for a one-of-a-kind\, unified event. This new format expands beyond the traditional Safety Summit to deliver a more complete look at today's fleet operations.Over three days\, attendees will hear from industry experts\, take part in interactive discussions\, and connect with peers across safety\, maintenance\, and leadership roles. Sessions will cover today's most pressing topics\, from safety and compliance to equipment\, technology\, and workforce challenges\, all designed to support stronger\, more efficient operations.The Summit will also feature networking opportunities and evening events designed to keep conversations going beyond the sessions. Open to attendees from across the region\, this event delivers practical takeaways and meaningful connections for those focused on safety\, maintenance\, or overall fleet performance.Who Should Attend:\nSafety professionals\, maintenance leaders\, fleet managers\, and industry partners from across the Midwest.When: November 8 10\, 2026\nWhere: Marriott Riverfront\, South Sioux City\, Nebraska
X-ALT-DESC;FMTTYPE=text/html:<!DOCTYPE html><html><head><title></title></head><body aria-disabled="false"><p data-end="360" data-start="58">The Heartland Trucking Summit brings together the Nebraska Trucking Association&rsquo\;s Safety Management Council and Technology &amp\; Maintenance Council for a one-of-a-kind\, unified event. This new format expands beyond the traditional Safety Summit to deliver a more complete look at today&rsquo\;s fleet operations.</p><p data-end="722" data-start="362">Over three days\, attendees will hear from industry experts\, take part in interactive discussions\, and connect with peers across safety\, maintenance\, and leadership roles. Sessions will cover today&rsquo\;s most pressing topics\, from safety and compliance to equipment\, technology\, and workforce challenges\, all designed to support stronger\, more efficient operations.</p><p data-end="1035" data-start="724">The Summit will also feature networking opportunities and evening events designed to keep conversations going beyond the sessions. Open to attendees from across the region\, this event delivers practical takeaways and meaningful connections for those focused on safety\, maintenance\, or overall fleet performance.</p><p data-end="1167" data-start="1037"><strong data-end="1059" data-start="1037" fr-original-style="" style="font-weight: 700\;">Who Should Attend:</strong><br data-start="1059" data-end="1062">Safety professionals\, maintenance leaders\, fleet managers\, and industry partners from across the Midwest.</p><p data-end="1261" data-start="1169"><strong data-end="1178" data-start="1169" fr-original-style="" style="font-weight: 700\;">When:</strong> November 8&ndash\;10\, 2026<br data-start="1198" data-end="1201"><strong data-end="1211" data-start="1201" fr-original-style="" style="font-weight: 700\;">Where:</strong> Marriott Riverfront\, South Sioux City\, Nebraska</p></body></html>
LOCATION:385 E 4th St South Sioux City NE 68776
UID:e.1326.1330283
SEQUENCE:3
DTSTAMP:20260420T150219Z
URL:https://events.nebtrucking.com/driver-services/Details/2026-heartland-trucking-summit-1560968?sourceTypeId=Hub
END:VEVENT
END:VCALENDAR
