BEGIN:VCALENDAR
VERSION:2.0
PRODID:-//ChamberMaster//Event Calendar 2.0//EN
METHOD:PUBLISH
X-PUBLISHED-TTL:P1H
REFRESH-INTERVAL:P1H
CALSCALE:GREGORIAN
BEGIN:VTIMEZONE
TZID:America/Chicago
BEGIN:DAYLIGHT
RRULE:FREQ=YEARLY;BYMONTH=3;BYDAY=2SU
DTSTART:20070101T000000
TZOFFSETFROM:-0600
TZOFFSETTO:-0500
TZNAME:Central Daylight Time
END:DAYLIGHT
BEGIN:STANDARD
RRULE:FREQ=YEARLY;BYMONTH=11;BYDAY=1SU
DTSTART:20070101T000000
TZOFFSETFROM:-0500
TZOFFSETTO:-0600
TZNAME:Central Standard Time
END:STANDARD
END:VTIMEZONE
BEGIN:VEVENT
DTSTART;VALUE=DATE:20260629
DTEND;VALUE=DATE:20260630
TRANSP:TRANSPARENT
X-MICROSOFT-CDO-ALLDAYEVENT:TRUE
SUMMARY:2026 Semi-Annual BOD Meeting Trap & Golf Tournament
DESCRIPTION:Nebraska Trucking Association members are invited to the 2025 Spring Conference and semi-annual Board of Directors meeting at Riverside Golf Club in Grand Island\, Nebraska. This event provides an opportunity to engage with industry peers\, discuss key topics affecting the trucking sector\, and strengthen professional connections.The day begins with sporting clays at Heartland Public Shooting Park\, kicking things off with an energizing activity. Lunch will follow at Riverside Golf Club\, where the semi-annual Board of Directors meeting will focus on important updates and initiatives shaping Nebraska's trucking industry. The afternoon includes a golf outing on the scenic course\, providing additional networking opportunities\, and the day concludes with an awards dinner to recognize participants and celebrate the event.Agenda8:00 am: Sporting Clays at Heartland Public Shooting Park11:00 am: Registration at Riverside Golf Club11:30 am: Lunch (Board of Directors Meeting)12:45 pm: Golf Carts and Instruction1:00 pm: Shotgun StartSponsorship opportunities are available to support this event and gain visibility within Nebraska's trucking community. Contact April Tilden at april@nebtrucking.com or 402-476-8504 for details.Refund requests made 7 days prior to the first day of the event will be subject to a processing fee. No refunds requests will be honored within a 7-day period of the first day of the event.
X-ALT-DESC;FMTTYPE=text/html:<!DOCTYPE html><html><head><title></title></head><body aria-disabled="false"><p>Nebraska Trucking Association members are invited to the 2025 Spring Conference and semi-annual Board of Directors meeting at Riverside Golf Club in Grand Island\, Nebraska. This event provides an opportunity to engage with industry peers\, discuss key topics affecting the trucking sector\, and strengthen professional connections.</p><p>The day begins with sporting clays at Heartland Public Shooting Park\, kicking things off with an energizing activity. Lunch will follow at Riverside Golf Club\, where the semi-annual Board of Directors meeting will focus on important updates and initiatives shaping Nebraska&rsquo\;s trucking industry. The afternoon includes a golf outing on the scenic course\, providing additional networking opportunities\, and the day concludes with an awards dinner to recognize participants and celebrate the event.</p><h4>Agenda</h4><ul fr-original-style="" style="list-style-position: inside\;"><li>8:00 am: Sporting Clays at Heartland Public Shooting Park</li><li>11:00 am: Registration at Riverside Golf Club</li><li>11:30 am: Lunch (Board of Directors Meeting)</li><li>12:45 pm: Golf Carts and Instruction</li><li>1:00 pm: Shotgun Start</li></ul><p>Sponsorship opportunities are available to support this event and gain visibility within Nebraska&rsquo\;s trucking community. Contact April Tilden at <a fr-original-style="" rel="noopener" style="user-select: auto\;">april@nebtrucking.com</a> or 402-476-8504 for details.</p><p style="color: rgb(118\, 118\, 118)\; font-size: 12px\; max-width: 70%\;">Refund requests made 7 days prior to the first day of the event will be subject to a processing fee. No refunds requests will be honored within a 7-day period of the first day of the event.</p></body></html>
LOCATION:2820 Riverside Drive Grand Island NE 68801
UID:e.1326.1373476
SEQUENCE:3
DTSTAMP:20260420T150328Z
URL:https://events.nebtrucking.com/driver-services/Details/2026-semi-annual-bod-meeting-trap-golf-tournament-1621246?sourceTypeId=Hub
END:VEVENT
END:VCALENDAR
