BEGIN:VCALENDAR
VERSION:2.0
PRODID:-//ChamberMaster//Event Calendar 2.0//EN
METHOD:PUBLISH
X-PUBLISHED-TTL:P1H
REFRESH-INTERVAL:P1H
CALSCALE:GREGORIAN
BEGIN:VTIMEZONE
TZID:America/Chicago
BEGIN:DAYLIGHT
RRULE:FREQ=YEARLY;BYMONTH=3;BYDAY=2SU
DTSTART:20070101T000000
TZOFFSETFROM:-0600
TZOFFSETTO:-0500
TZNAME:Central Daylight Time
END:DAYLIGHT
BEGIN:STANDARD
RRULE:FREQ=YEARLY;BYMONTH=11;BYDAY=1SU
DTSTART:20070101T000000
TZOFFSETFROM:-0500
TZOFFSETTO:-0600
TZNAME:Central Standard Time
END:STANDARD
END:VTIMEZONE
BEGIN:VEVENT
DTSTART;TZID=America/Chicago:20260410T113000
DTEND;TZID=America/Chicago:20260410T130000
X-MICROSOFT-CDO-ALLDAYEVENT:FALSE
SUMMARY:ReEmployAbility Lunch & Learn
DESCRIPTION:Join us for an informative Lunch and Learn focused on practical approaches to return-to-work programs in the trucking industry. This session will explore how employers can support injured employees when light-duty options are not available in-house\, while maintaining productivity\, connection\, and momentum.Angela Fulgieri of ReEmployAbility will provide real-world examples of how nonprofit-based\, temporary work placements can support injured employees during recovery. The discussion will focus on the broader benefits of these types of programs\, including improved recovery timelines\, reduced claim costs\, and stronger workforce retention.Attendees will gain a better understanding of how these programs work in practice\, why they matter for both employers and employees\, and how companies of all sizes can build more effective return-to-work strategies.This session is designed to provide practical insight and real-world context for trucking professionals looking to strengthen their approach to workforce recovery and continuity.About the Presenter: Angela Fulgieri\, Account Executive at ReEmployAbility\, brings more than 15 years of nonprofit experience in program development\, health and wellness\, and organizational leadership. She is passionate about building partnerships that create meaningful opportunities for injured workers while helping employers and community organizations achieve better outcomes together.
X-ALT-DESC;FMTTYPE=text/html:<!DOCTYPE html><html><head><title></title></head><body aria-disabled="false"><p data-end="623" data-start="316">Join us for an informative Lunch and Learn focused on practical approaches to return-to-work programs in the trucking industry. This session will explore how employers can support injured employees when light-duty options are not available in-house\, while maintaining productivity\, connection\, and momentum.</p><p data-end="996" data-start="625">Angela Fulgieri of ReEmployAbility will provide real-world examples of how nonprofit-based\, temporary work placements can support injured employees during recovery. The discussion will focus on the broader benefits of these types of programs\, including improved recovery timelines\, reduced claim costs\, and stronger workforce retention.</p><p data-end="1213" data-start="998">Attendees will gain a better understanding of how these programs work in practice\, why they matter for both employers and employees\, and how companies of all sizes can build more effective return-to-work strategies.</p><p data-end="1393" data-start="1215">This session is designed to provide practical insight and real-world context for trucking professionals looking to strengthen their approach to workforce recovery and continuity.</p><p data-end="829" data-is-last-node="" data-is-only-node="" data-start="435"><strong data-end="459" data-start="435" fr-original-style="" style="font-weight: 700\;">About the Presenter:</strong> Angela Fulgieri\, Account Executive at ReEmployAbility\, brings more than 15 years of nonprofit experience in program development\, health and wellness\, and organizational leadership. She is passionate about building partnerships that create meaningful opportunities for injured workers while helping employers and community organizations achieve better outcomes together.</p></body></html>
LOCATION:5353 N 27th St\, Lincoln Lincoln 68521
UID:e.1326.1400489
SEQUENCE:3
DTSTAMP:20260420T150138Z
URL:https://events.nebtrucking.com/driver-services/Details/reemployability-lunch-learn-1654820?sourceTypeId=Hub
END:VEVENT
END:VCALENDAR
