BEGIN:VCALENDAR
VERSION:2.0
PRODID:-//ChamberMaster//Event Calendar 2.0//EN
METHOD:PUBLISH
X-PUBLISHED-TTL:P1H
REFRESH-INTERVAL:P1H
CALSCALE:GREGORIAN
BEGIN:VTIMEZONE
TZID:America/Chicago
BEGIN:DAYLIGHT
RRULE:FREQ=YEARLY;BYMONTH=3;BYDAY=2SU
DTSTART:20070101T000000
TZOFFSETFROM:-0600
TZOFFSETTO:-0500
TZNAME:Central Daylight Time
END:DAYLIGHT
BEGIN:STANDARD
RRULE:FREQ=YEARLY;BYMONTH=11;BYDAY=1SU
DTSTART:20070101T000000
TZOFFSETFROM:-0500
TZOFFSETTO:-0600
TZNAME:Central Standard Time
END:STANDARD
END:VTIMEZONE
BEGIN:VEVENT
DTSTART;TZID=America/Chicago:20260818T083032
DTEND;TZID=America/Chicago:20260820T170032
X-MICROSOFT-CDO-ALLDAYEVENT:FALSE
SUMMARY:Rescheduled\, August 18th-20th\, 2026 NATMI Certified Director of Maintenance/Equipment (CDM/E)
DESCRIPTION:The Nebraska Trucking Association (NTA) is excited to offer members an opportunity to complete the North American Transportation Management Institute (NATMI) Certified Director of Maintenance/Equipment (CDM/E)   a joint certification of NATMI and ATA TMC. These courses\, taught by experienced\, trained instructors\, are designed to improve the performance and productivity of the professionals directly responsible for effective fleet and driver performance risk managers\, safety and security directors\, maintenance managers\, and commercial driver trainers.This course is the only required course for the Certified Supervisor of Maintenance/Equipment (CSM/E) and one of two required courses for the Certified Director of Maintenance/Equipment (CDM/E) designation.Course Benefits:Learn to schedule work effectively\;Learn effective information management and use of computer technology in maintenance\;Develop supervision skills to motivate technicians\;Learn essential preventive maintenance skills\;Learn how to deal with upper management effectively\;Learn how to develop\, track and evaluate training programs\;Learn how to present effective meetings and programs\; andUnderstand the regulations that cover maintenance operations.Course DescriptionThe program covers topics essential to effective management and administration of fleet maintenance operations.  Students learn how to cut costs through efficient use of personnel\, equipment\, and technology\, while complying with government regulations affecting maintenance operations.Complete your registration and pay for these courses on the NATMI websiteRegister Today!
X-ALT-DESC;FMTTYPE=text/html:<!DOCTYPE html><html><head><title></title></head><body aria-disabled="false"><p><meta name="uuid" content="uuidCQMjATmMoRa4"> <meta charset="utf-8"></p><p>The Nebraska Trucking Association (NTA) is excited to offer members an opportunity to complete the North American Transportation Management Institute (NATMI) Certified Director of Maintenance/Equipment (CDM/E) &ndash\; a joint certification of NATMI and ATA TMC. These courses\, taught by experienced\, trained instructors\, are designed to improve the performance and productivity of the professionals directly responsible for effective fleet and driver performance risk managers\, safety and security directors\, maintenance managers\, and commercial driver trainers.</p><p>This course is the only required course for the Certified Supervisor of Maintenance/Equipment (CSM/E) and one of two required courses for the Certified Director of Maintenance/Equipment (CDM/E) designation.</p><div style="box-sizing: border-box\; margin: 0px\; padding: 0px\; border: 0px\; vertical-align: middle\;"><p style="box-sizing: border-box\; margin: 0px 0px 15px\; padding: 0px\; border: 0px\; vertical-align: middle\;"><strong fr-original-style="box-sizing: border-box\; font-weight: 700\; margin-bottom: 0px\;" style="box-sizing: border-box\; font-weight: 700\; margin-bottom: 0px\;">Course Benefits:</strong></p><ol fr-original-style="box-sizing: border-box\; margin: 0px 0px 0px 18px\; padding: 0px 0px 25px 20px\; border: 0px\; vertical-align: middle\; display: table\; font-weight: 400\;" style="box-sizing: border-box\; margin: 0px 0px 0px 18px\; padding: 0px 0px 25px 20px\; border: 0px\; vertical-align: middle\; display: table\; font-weight: 400\; list-style-position: inside\;"><li style="box-sizing: border-box\; margin: 0px\; padding: 0px 0px 7px 5px\; border: 0px\; vertical-align: middle\; position: relative\;">Learn to schedule work effectively\;</li><li style="box-sizing: border-box\; margin: 0px\; padding: 0px 0px 7px 5px\; border: 0px\; vertical-align: middle\; position: relative\;">Learn effective information management and use of computer technology in maintenance\;</li><li style="box-sizing: border-box\; margin: 0px\; padding: 0px 0px 7px 5px\; border: 0px\; vertical-align: middle\; position: relative\;">Develop supervision skills to motivate technicians\;</li><li style="box-sizing: border-box\; margin: 0px\; padding: 0px 0px 7px 5px\; border: 0px\; vertical-align: middle\; position: relative\;">Learn essential preventive maintenance skills\;</li><li style="box-sizing: border-box\; margin: 0px\; padding: 0px 0px 7px 5px\; border: 0px\; vertical-align: middle\; position: relative\;">Learn how to deal with upper management effectively\;</li><li style="box-sizing: border-box\; margin: 0px\; padding: 0px 0px 7px 5px\; border: 0px\; vertical-align: middle\; position: relative\;">Learn how to develop\, track and evaluate training programs\;</li><li style="box-sizing: border-box\; margin: 0px\; padding: 0px 0px 7px 5px\; border: 0px\; vertical-align: middle\; position: relative\;">Learn how to present effective meetings and programs\; and</li><li style="box-sizing: border-box\; margin: 0px\; padding: 0px 0px 7px 5px\; border: 0px\; vertical-align: middle\; position: relative\;">Understand the regulations that cover maintenance operations.</li></ol></div><p style="box-sizing: border-box\; margin: 0px 0px 15px\; padding: 0px\; border: 0px\; vertical-align: middle\; font-weight: 400\;"><strong fr-original-style="box-sizing: border-box\; font-weight: 700\; margin-bottom: 0px\;" style="box-sizing: border-box\; font-weight: 700\; margin-bottom: 0px\;">Course Description</strong></p><p>The program covers topics essential to effective management and administration of fleet maintenance operations. &nbsp\;Students learn how to cut costs through efficient use of personnel\, equipment\, and technology\, while complying with government regulations affecting maintenance operations.</p><p>Complete your registration and pay for these courses on the <a fr-original-style="" href="https://natmi.org/training/course-schedule/?trumbaEmbed=view%3Devent%26eventid%3D172204617" style="user-select: auto\;">NATMI website</a></p><div style='box-sizing: border-box\; margin: 0px\; padding: 0px\; border: 0px\; vertical-align: middle\; width: 552px\; position: relative\; min-height: 1px\; float: left\; color: rgb(51\, 51\, 51)\; font-family: "Fira Sans"\, sans-serif\; font-size: 16px\; font-style: normal\; font-variant-ligatures: normal\; font-variant-caps: normal\; font-weight: 400\; letter-spacing: normal\; orphans: 2\; text-align: start\; text-indent: 0px\; text-transform: none\; widows: 2\; word-spacing: 0px\; -webkit-text-stroke-width: 0px\; white-space: normal\; background-color: rgb(255\, 255\, 255)\; text-decoration-thickness: initial\; text-decoration-style: initial\; text-decoration-color: initial\;'><div style="box-sizing: border-box\; margin: 0px\; padding: 0px 15px\; border: 0px\; vertical-align: middle\; width: 552px\;"><div style="box-sizing: border-box\; margin: 0px\; padding: 0px\; border: 0px\; vertical-align: middle\;"><div style="box-sizing: border-box\; margin: 0px 0px 35px\; padding: 0px\; border: 0px\; vertical-align: middle\; display: inline-block\; width: 522px\;"><div style="box-sizing: border-box\; margin: 0px\; padding: 0px\; border: 0px\; vertical-align: middle\;"><p><strong fr-original-style=""><a fr-original-style="" href="https://natmi.org/training/course-schedule/?trumbaEmbed=view%3Devent%26eventid%3D193049550" style="user-select: auto\;">Register Today!</a></strong></p></div></div></div></div></div><p><br></p></body></html>
LOCATION:2601 Whitehead Dr Lincoln NE 68521
UID:e.1326.951140
SEQUENCE:3
DTSTAMP:20260420T150507Z
URL:https://events.nebtrucking.com/driver-services/Details/rescheduled-august-18th-20th-2026-natmi-certified-director-of-maintenance-equipment-cdm-e-1082559?sourceTypeId=Hub
END:VEVENT
END:VCALENDAR
