BEGIN:VCALENDAR
VERSION:2.0
PRODID:-//ChamberMaster//Event Calendar 2.0//EN
METHOD:PUBLISH
X-PUBLISHED-TTL:P1H
REFRESH-INTERVAL:P1H
CALSCALE:GREGORIAN
BEGIN:VTIMEZONE
TZID:America/Chicago
BEGIN:DAYLIGHT
RRULE:FREQ=YEARLY;BYMONTH=3;BYDAY=2SU
DTSTART:20070101T000000
TZOFFSETFROM:-0600
TZOFFSETTO:-0500
TZNAME:Central Daylight Time
END:DAYLIGHT
BEGIN:STANDARD
RRULE:FREQ=YEARLY;BYMONTH=11;BYDAY=1SU
DTSTART:20070101T000000
TZOFFSETFROM:-0500
TZOFFSETTO:-0600
TZNAME:Central Standard Time
END:STANDARD
END:VTIMEZONE
BEGIN:VEVENT
DTSTART;TZID=America/Chicago:20260430T110000
DTEND;TZID=America/Chicago:20260430T130000
X-MICROSOFT-CDO-ALLDAYEVENT:FALSE
SUMMARY:Women's Council Presents Insurance and Risk: Why Culture Impacts Claims
DESCRIPTION:Connect with peers and take a closer look at one of the biggest cost drivers in trucking today at this Women's Council Lunch and Learn.This session will focus on Insurance & Risk: Why Culture Impacts Claims\, featuring industry experts Kerra Grantski and Devin Gragg. The conversation will break down what is driving insurance premiums\, what underwriters are paying attention to\, and the types of claims that are having the biggest impact on trucking companies. Attendees will also gain a better understanding of coverage\, current market trends\, and practical ways to think differently about managing risk.Beyond the presentation\, this event is designed to bring members into the conversation.Participants will engage in Idea Exchange Circles\, where small groups will explore the topic through guided discussion and share real-world perspectives. The session will wrap up with Voices from the Table\, highlighting key takeaways from across the room\, followed by an Industry Pulse update from Nebraska State Patrol Carrier Enforcement\, covering current trends and regulatory updates impacting the industry.This format creates space not only to learn from experts\, but to hear directly from others facing similar challenges across the industry.Whether you work in safety\, operations\, HR\, or leadership\, this session offers practical insight\, meaningful conversation\, and valuable connection.
X-ALT-DESC;FMTTYPE=text/html:<!DOCTYPE html><html><head><title></title></head><body aria-disabled="false"><p data-end="371" data-start="236">Connect with peers and take a closer look at one of the biggest cost drivers in trucking today at this Women&rsquo\;s Council Lunch and Learn.</p><p data-end="847" data-start="373">This session will focus on <strong data-end="448" data-start="400" fr-original-style="" style="font-weight: 700\;">Insurance &amp\; Risk: Why Culture Impacts Claims</strong>\, featuring industry experts Kerra Grantski and Devin Gragg. The conversation will break down what is driving insurance premiums\, what underwriters are paying attention to\, and the types of claims that are having the biggest impact on trucking companies. Attendees will also gain a better understanding of coverage\, current market trends\, and practical ways to think differently about managing risk.</p><p data-end="936" data-start="849">Beyond the presentation\, this event is designed to bring members into the conversation.</p><p data-end="1361" data-start="938">Participants will engage in <strong data-end="991" data-start="966" fr-original-style="" style="font-weight: 700\;">Idea Exchange Circles</strong>\, where small groups will explore the topic through guided discussion and share real-world perspectives. The session will wrap up with <strong data-end="1151" data-start="1126" fr-original-style="" style="font-weight: 700\;">Voices from the Table</strong>\, highlighting key takeaways from across the room\, followed by an <strong data-end="1242" data-start="1217" fr-original-style="" style="font-weight: 700\;">Industry Pulse update</strong> from Nebraska State Patrol Carrier Enforcement\, covering current trends and regulatory updates impacting the industry.</p><p data-end="1500" data-start="1363">This format creates space not only to learn from experts\, but to hear directly from others facing similar challenges across the industry.</p><p data-end="1649" data-start="1502">Whether you work in safety\, operations\, HR\, or leadership\, this session offers practical insight\, meaningful conversation\, and valuable connection.</p></body></html>
LOCATION:14010 FNB Parkway Omaha NE 68154
UID:e.1326.1424817
SEQUENCE:3
DTSTAMP:20260420T150528Z
URL:https://events.nebtrucking.com/driver-services/Details/women-s-council-presents-insurance-and-risk-why-culture-impacts-claims-1684642?sourceTypeId=Hub
END:VEVENT
END:VCALENDAR
