BEGIN:VCALENDAR
VERSION:2.0
PRODID:-//ChamberMaster//Event Calendar 2.0//EN
METHOD:PUBLISH
X-PUBLISHED-TTL:P1H
REFRESH-INTERVAL:P1H
CALSCALE:GREGORIAN
BEGIN:VTIMEZONE
TZID:America/Chicago
BEGIN:DAYLIGHT
RRULE:FREQ=YEARLY;BYMONTH=3;BYDAY=2SU
DTSTART:20070101T000000
TZOFFSETFROM:-0600
TZOFFSETTO:-0500
TZNAME:Central Daylight Time
END:DAYLIGHT
BEGIN:STANDARD
RRULE:FREQ=YEARLY;BYMONTH=11;BYDAY=1SU
DTSTART:20070101T000000
TZOFFSETFROM:-0500
TZOFFSETTO:-0600
TZNAME:Central Standard Time
END:STANDARD
END:VTIMEZONE
BEGIN:VEVENT
DTSTART;VALUE=DATE:20220314
DTEND;VALUE=DATE:20270109
TRANSP:TRANSPARENT
X-MICROSOFT-CDO-ALLDAYEVENT:TRUE
SUMMARY:Hazardous Material Endorsement Training
DESCRIPTION:The Nebraska Trucking Association is proud to announce the introduction of our new Hazardous Material Endorsement Training. The training complies with all the new FMCSA ELDT requirements for HM endorsement. Our personalized on-line training allows you to take the course at your convenience and covers the required 5 courses needed to obtain your endorsement. Sign up now!
X-ALT-DESC;FMTTYPE=text/html:<!DOCTYPE html><html><head><title></title></head><body aria-disabled="false"><p>The Nebraska Trucking Association is proud to announce the introduction of our new Hazardous Material Endorsement Training. The training complies with all the new FMCSA ELDT requirements for HM endorsement. Our personalized on-line training allows you to take the course at your convenience and covers the required 5 courses needed to obtain your endorsement. Sign up now!</p></body></html>
LOCATION:
UID:e.1326.600648
SEQUENCE:3
DTSTAMP:20260422T042053Z
URL:https://events.nebtrucking.com/driver-services/Details/hazardous-material-endorsement-training-619152?sourceTypeId=Hub
END:VEVENT
END:VCALENDAR
