BEGIN:VCALENDAR
VERSION:2.0
PRODID:-//ChamberMaster//Event Calendar 2.0//EN
METHOD:PUBLISH
X-PUBLISHED-TTL:P1H
REFRESH-INTERVAL:P1H
CALSCALE:GREGORIAN
BEGIN:VTIMEZONE
TZID:America/Chicago
BEGIN:DAYLIGHT
RRULE:FREQ=YEARLY;BYMONTH=3;BYDAY=2SU
DTSTART:20070101T000000
TZOFFSETFROM:-0600
TZOFFSETTO:-0500
TZNAME:Central Daylight Time
END:DAYLIGHT
BEGIN:STANDARD
RRULE:FREQ=YEARLY;BYMONTH=11;BYDAY=1SU
DTSTART:20070101T000000
TZOFFSETFROM:-0500
TZOFFSETTO:-0600
TZNAME:Central Standard Time
END:STANDARD
END:VTIMEZONE
BEGIN:VEVENT
DTSTART;TZID=America/Chicago:20260514T173000
DTEND;TZID=America/Chicago:20260514T200000
X-MICROSOFT-CDO-ALLDAYEVENT:FALSE
SUMMARY:Level 1 DOT Inspection Workshop
DESCRIPTION:The best way to pass an inspection by the Nebraska State Patrol is to understand the rules and to experience the inspection with NTA's Level 1 Inspection Event. Nebraska State Patrol Carrier Enforcement will demonstrate the DOT North American Standards Level 1 Inspection Procedure (a 37-step roadside check). GET PREPARED WITH NTA TRAINING   Who needs a CDL?\n  Does your vehicle require a CDL?\n  View the 37-steps by inspectors on elevated trucks\n  Dinner provided during the program\n  Bring your safety glasses (required)Perfect for:\n  Truck owners\n  Drivers\n  Fleet managers\n  Safety directors\n  Diesel technicians5:30 pm: Check in6:00 pm: Program and DinnerRefund requests made 7 days prior to the first day of the event will be subject to a $50 processing fee. No refunds requests will be honored within a 7-day period of the first day of the event.
X-ALT-DESC;FMTTYPE=text/html:<!DOCTYPE html><html><head><title></title></head><body aria-disabled="false"><p>The best way to pass an inspection by the Nebraska State Patrol is to understand the rules and to experience the inspection with NTA&#39\;s Level 1 Inspection Event.&nbsp\;</p><p>Nebraska State Patrol Carrier Enforcement will demonstrate the DOT North American Standards Level 1 Inspection Procedure (a 37-step roadside check).&nbsp\;</p><p>GET PREPARED WITH NTA TRAINING&nbsp\;</p><p>&bull\; Who needs a CDL?<br>&bull\; Does your vehicle require a CDL?<br>&bull\; View the 37-steps by inspectors on elevated trucks<br>&bull\; Dinner provided during the program<br>&bull\; Bring your safety glasses (required)</p><p><strong fr-original-style="" style="font-weight: 700\;">Perfect for:</strong><br>&bull\; Truck owners<br>&bull\; Drivers<br>&bull\; Fleet managers<br>&bull\; Safety directors<br>&bull\; Diesel technicians</p><p>5:30 pm: Check in</p><p>6:00 pm: Program and Dinner</p><p style="text-align: left\;"><span style="color: rgb(118\, 118\, 118)\; font-family: Roboto\, sans-serif\; font-size: 12px\; font-style: normal\; font-variant-ligatures: normal\; font-variant-caps: normal\; font-weight: 400\; letter-spacing: 0.5px\; orphans: 2\; text-align: start\; text-indent: 0px\; text-transform: none\; white-space: normal\; widows: 2\; word-spacing: 0px\; -webkit-text-stroke-width: 0px\; background-color: rgb(255\, 255\, 255)\; text-decoration-thickness: initial\; text-decoration-style: initial\; text-decoration-color: initial\; display: inline !important\; float: none\;">Refund requests made 7 days prior to the first day of the event will be subject to a $50 processing fee. No refunds requests will be honored within a 7-day period of the first day of the event.</span></p></body></html>
LOCATION:9944 S 136th St Omaha NE 68138
UID:e.1326.1436185
SEQUENCE:3
DTSTAMP:20260421T010005Z
URL:https://events.nebtrucking.com/driver-services/Details/level-1-dot-inspection-workshop-1700127?sourceTypeId=Hub
END:VEVENT
END:VCALENDAR
