BEGIN:VCALENDAR
VERSION:2.0
PRODID:-//ChamberMaster//Event Calendar 2.0//EN
METHOD:PUBLISH
X-PUBLISHED-TTL:P1H
REFRESH-INTERVAL:P1H
CALSCALE:GREGORIAN
BEGIN:VTIMEZONE
TZID:America/Chicago
BEGIN:DAYLIGHT
RRULE:FREQ=YEARLY;BYMONTH=3;BYDAY=2SU
DTSTART:20070101T000000
TZOFFSETFROM:-0600
TZOFFSETTO:-0500
TZNAME:Central Daylight Time
END:DAYLIGHT
BEGIN:STANDARD
RRULE:FREQ=YEARLY;BYMONTH=11;BYDAY=1SU
DTSTART:20070101T000000
TZOFFSETFROM:-0500
TZOFFSETTO:-0600
TZNAME:Central Standard Time
END:STANDARD
END:VTIMEZONE
BEGIN:VEVENT
DTSTART;VALUE=DATE:20260706
DTEND;VALUE=DATE:20260711
TRANSP:TRANSPARENT
X-MICROSOFT-CDO-ALLDAYEVENT:TRUE
SUMMARY:NATMI Certified Director of Safety (CDS)
DESCRIPTION:The Nebraska Trucking Association (NTA) is excited to offer members an opportunity to complete the North American Transportation Management Institute (NATMI) Certified Director of Safety. This 4.5-day certification program is designed for safety professionals responsible for managing and improving motor carrier safety programs. \nMotor Fleet Safety Basics: Training for the Safety Director (2 days) Course Description: This  "Fleet Safety 101" program is designed to provide training on effective implementation of safety-related policies and procedures. A training requirement for NATMI's safety certification program\, this course is designed for line-level safety supervisors\, with the basic emphasis on what they need to do and when and how to do it.  Managers of small fleets and experienced safety professionals seeking a refresher on technical issues will find this course helpful as well.You'll gain technical knowledge taught within the context of the importance of safety and applying a quality management approach to safety program implementation.  Some pre-reading is also required. The following topics will be covered:Objectives of a fleet safety programOverview of NATMI certification for safety professionalsDOT/OSHA Record keeping issues and requirementsReporting and documenting vehicle accidentsEmployee injury control and preventionHiring the right peopleDriver retentionSafety trainingImplementing safety in your companyManaging Motor Fleet Safety Programs: Training for the Safety Director (2 days) Course Description: This course is designed to provide transportation safety directors and prospective safety directors with the vision and skills that they need to manage an effective safety program. Participants will be playing the role of a newly-hired safety director at a company in need of a safety overhaul.  Through case-based scenarios\, learn how to "sell" safety to top management\, foster a safety "culture" in the organization\, demonstrate safety's Return on Investment\, and consistently improve the safety of company operations using quality management approaches.  The following topics will be covered:How to become a Certified Director of Safety (CDS)Safety is good business   demonstrating the effect of safe operation on profitability.The quality management approach to safety programs: how to identify the root cause of company\nsafety problems and establish systems for continuous improvement.Employee injury/illness management programs: focusing on critical safe behaviors to prevent or\nreduce injuries\; managing injury costs through early return to work programs.Driver performance management: using quality tools to identify the root causes of Hours of\nService violations and to analyze driver turnover.Accident analysis and litigation: root cause analysis of accident trends\; a case study in accident\nlitigation.Implementing safety: how to implement the concepts introduced in this course in your own\ncompany.Together\, these courses build a strong foundation in fleet safety management and prepare participants to implement and oversee safety initiatives within their organizations. Participants will complete the CDS/CSS certification exam onsite the morning following the second course. Successful completion demonstrates a high level of knowledge and commitment to professional safety leadership in the trucking industry.\nComplete your registration and pay for these courses on the NATMI websiteRegister Today!
X-ALT-DESC;FMTTYPE=text/html:<!DOCTYPE html><html><head><title></title></head><body aria-disabled="false"><p>The Nebraska Trucking Association (NTA) is excited to offer members an opportunity to complete the North American Transportation Management Institute (NATMI) Certified Director of Safety. This 4.5-day certification program is designed for safety professionals responsible for managing and improving motor carrier safety programs.&nbsp\;</p><h2 style='box-sizing: border-box\; font-family: "Fira Sans"\, sans-serif\; font-weight: 700\; line-height: 1.19 !important\; color: rgb(51\, 51\, 51)\; margin: 0px 0px 20px\; font-size: 34px !important\; vertical-align: top\; padding: 0px !important\; text-shadow: none !important\; border: none !important\; text-transform: none\; text-rendering: optimizelegibility !important\; -webkit-font-smoothing: antialiased !important\; font-style: normal\; font-variant-ligatures: normal\; font-variant-caps: normal\; letter-spacing: normal\; orphans: 2\; text-align: start\; text-indent: 0px\; widows: 2\; word-spacing: 0px\; -webkit-text-stroke-width: 0px\; white-space: normal\; background-color: rgb(255\, 255\, 255)\; text-decoration-thickness: initial\; text-decoration-style: initial\; text-decoration-color: initial\;'><br></h2><p style='box-sizing: border-box\; margin: 0px 0px 15px\; padding: 0px\; border: 0px\; vertical-align: middle\; color: rgb(51\, 51\, 51)\; font-family: "Fira Sans"\, sans-serif\; font-size: 16px\; font-style: normal\; font-variant-ligatures: normal\; font-variant-caps: normal\; font-weight: 400\; letter-spacing: normal\; orphans: 2\; text-align: start\; text-indent: 0px\; text-transform: none\; widows: 2\; word-spacing: 0px\; -webkit-text-stroke-width: 0px\; white-space: normal\; background-color: rgb(255\, 255\, 255)\; text-decoration-thickness: initial\; text-decoration-style: initial\; text-decoration-color: initial\;'><strong fr-original-style="box-sizing: border-box\; font-weight: 700\; margin-bottom: 0px\;" style="box-sizing: border-box\; font-weight: 700\; margin-bottom: 0px\;">Motor Fleet Safety Basics: Training for the Safety Director (2 days)&nbsp\;</strong></p><p style='box-sizing: border-box\; margin: 0px 0px 15px\; padding: 0px\; border: 0px\; vertical-align: middle\; color: rgb(51\, 51\, 51)\; font-family: "Fira Sans"\, sans-serif\; font-size: 16px\; font-style: normal\; font-variant-ligatures: normal\; font-variant-caps: normal\; font-weight: 400\; letter-spacing: normal\; orphans: 2\; text-align: start\; text-indent: 0px\; text-transform: none\; widows: 2\; word-spacing: 0px\; -webkit-text-stroke-width: 0px\; white-space: normal\; background-color: rgb(255\, 255\, 255)\; text-decoration-thickness: initial\; text-decoration-style: initial\; text-decoration-color: initial\;'><strong fr-original-style="box-sizing: border-box\; font-weight: 700\; margin-bottom: 0px\;" style="box-sizing: border-box\; font-weight: 700\; margin-bottom: 0px\;">Course Description</strong>: This &nbsp\;&ldquo\;Fleet Safety 101&rdquo\; program is designed to provide training on effective implementation of safety-related policies and procedures. A training requirement for NATMI&rsquo\;s safety certification program\, this course is designed for line-level safety supervisors\, with the basic emphasis on what they need to do and when and how to do it. &nbsp\;Managers of small fleets and experienced safety professionals seeking a refresher on technical issues will find this course helpful as well.</p><p style='box-sizing: border-box\; margin: 0px 0px 15px\; padding: 0px\; border: 0px\; vertical-align: middle\; color: rgb(51\, 51\, 51)\; font-family: "Fira Sans"\, sans-serif\; font-size: 16px\; font-style: normal\; font-variant-ligatures: normal\; font-variant-caps: normal\; font-weight: 400\; letter-spacing: normal\; orphans: 2\; text-align: start\; text-indent: 0px\; text-transform: none\; widows: 2\; word-spacing: 0px\; -webkit-text-stroke-width: 0px\; white-space: normal\; background-color: rgb(255\, 255\, 255)\; text-decoration-thickness: initial\; text-decoration-style: initial\; text-decoration-color: initial\;'>You&rsquo\;ll gain technical knowledge taught within the context of the importance of safety and applying a quality management approach to safety program implementation. &nbsp\;Some pre-reading is also required. The following topics will be covered:</p><ul fr-original-style='box-sizing: border-box\; margin: 0px\; padding: 0px 0px 25px 20px\; border: 0px\; vertical-align: middle\; display: table\; color: rgb(51\, 51\, 51)\; font-family: "Fira Sans"\, sans-serif\; font-size: 16px\; font-style: normal\; font-variant-ligatures: normal\; font-variant-caps: normal\; font-weight: 400\; letter-spacing: normal\; orphans: 2\; text-align: start\; text-indent: 0px\; text-transform: none\; widows: 2\; word-spacing: 0px\; -webkit-text-stroke-width: 0px\; white-space: normal\; background-color: rgb(255\, 255\, 255)\; text-decoration-thickness: initial\; text-decoration-style: initial\; text-decoration-color: initial\;' style='box-sizing: border-box\; margin: 0px\; padding: 0px 0px 25px 20px\; border: 0px\; vertical-align: middle\; display: table\; color: rgb(51\, 51\, 51)\; font-family: "Fira Sans"\, sans-serif\; font-size: 16px\; font-style: normal\; font-variant-ligatures: normal\; font-variant-caps: normal\; font-weight: 400\; letter-spacing: normal\; orphans: 2\; text-align: start\; text-indent: 0px\; text-transform: none\; widows: 2\; word-spacing: 0px\; -webkit-text-stroke-width: 0px\; white-space: normal\; background-color: rgb(255\, 255\, 255)\; text-decoration-thickness: initial\; text-decoration-style: initial\; text-decoration-color: initial\; list-style-position: inside\;'><li style="box-sizing: border-box\; margin: 0px\; padding: 0px 0px 7px 20px\; border: 0px\; vertical-align: middle\; list-style: none\; float: none\; position: relative\;">Objectives of a fleet safety program</li><li style="box-sizing: border-box\; margin: 0px\; padding: 0px 0px 7px 20px\; border: 0px\; vertical-align: middle\; list-style: none\; float: none\; position: relative\;">Overview of NATMI certification for safety&nbsp\;professionals</li><li style="box-sizing: border-box\; margin: 0px\; padding: 0px 0px 7px 20px\; border: 0px\; vertical-align: middle\; list-style: none\; float: none\; position: relative\;">DOT/OSHA Record keeping issues and&nbsp\;requirements</li><li style="box-sizing: border-box\; margin: 0px\; padding: 0px 0px 7px 20px\; border: 0px\; vertical-align: middle\; list-style: none\; float: none\; position: relative\;">Reporting and documenting vehicle accidents</li><li style="box-sizing: border-box\; margin: 0px\; padding: 0px 0px 7px 20px\; border: 0px\; vertical-align: middle\; list-style: none\; float: none\; position: relative\;">Employee injury control and prevention</li><li style="box-sizing: border-box\; margin: 0px\; padding: 0px 0px 7px 20px\; border: 0px\; vertical-align: middle\; list-style: none\; float: none\; position: relative\;">Hiring the right people</li><li style="box-sizing: border-box\; margin: 0px\; padding: 0px 0px 7px 20px\; border: 0px\; vertical-align: middle\; list-style: none\; float: none\; position: relative\;">Driver retention</li><li style="box-sizing: border-box\; margin: 0px\; padding: 0px 0px 7px 20px\; border: 0px\; vertical-align: middle\; list-style: none\; float: none\; position: relative\;">Safety training</li><li style="box-sizing: border-box\; margin: 0px\; padding: 0px 0px 7px 20px\; border: 0px\; vertical-align: middle\; list-style: none\; float: none\; position: relative\;">Implementing safety in your company</li></ul><p><strong fr-original-style="">Managing Motor Fleet Safety Programs: Training for the Safety Director (2 days)&nbsp\;</strong></p><p style='box-sizing: border-box\; margin: 0px 0px 15px\; padding: 0px\; border: 0px\; vertical-align: middle\; color: rgb(51\, 51\, 51)\; font-family: "Fira Sans"\, sans-serif\; font-size: 16px\; font-style: normal\; font-variant-ligatures: normal\; font-variant-caps: normal\; font-weight: 400\; letter-spacing: normal\; orphans: 2\; text-align: start\; text-indent: 0px\; text-transform: none\; widows: 2\; word-spacing: 0px\; -webkit-text-stroke-width: 0px\; white-space: normal\; background-color: rgb(255\, 255\, 255)\; text-decoration-thickness: initial\; text-decoration-style: initial\; text-decoration-color: initial\;'><strong fr-original-style="box-sizing: border-box\; font-weight: 700\; margin-bottom: 0px\;" style="box-sizing: border-box\; font-weight: 700\; margin-bottom: 0px\;">Course Description:</strong> This course is designed to provide transportation safety directors and prospective safety directors with the vision and skills that they need to manage an effective safety program. Participants will be playing the role of a newly-hired safety director at a company in need of a safety overhaul. &nbsp\;Through case-based scenarios\, learn how to &ldquo\;sell&rdquo\; safety to top management\, foster a safety &ldquo\;culture&rdquo\; in the organization\, demonstrate safety&rsquo\;s Return on Investment\, and consistently improve the safety of company operations using quality management approaches. &nbsp\;The following topics will be covered:</p><ul fr-original-style='box-sizing: border-box\; margin: 0px\; padding: 0px 0px 25px 20px\; border: 0px\; vertical-align: middle\; display: table\; color: rgb(51\, 51\, 51)\; font-family: "Fira Sans"\, sans-serif\; font-size: 16px\; font-style: normal\; font-variant-ligatures: normal\; font-variant-caps: normal\; font-weight: 400\; letter-spacing: normal\; orphans: 2\; text-align: start\; text-indent: 0px\; text-transform: none\; widows: 2\; word-spacing: 0px\; -webkit-text-stroke-width: 0px\; white-space: normal\; background-color: rgb(255\, 255\, 255)\; text-decoration-thickness: initial\; text-decoration-style: initial\; text-decoration-color: initial\;' style='box-sizing: border-box\; margin: 0px\; padding: 0px 0px 25px 20px\; border: 0px\; vertical-align: middle\; display: table\; color: rgb(51\, 51\, 51)\; font-family: "Fira Sans"\, sans-serif\; font-size: 16px\; font-style: normal\; font-variant-ligatures: normal\; font-variant-caps: normal\; font-weight: 400\; letter-spacing: normal\; orphans: 2\; text-align: start\; text-indent: 0px\; text-transform: none\; widows: 2\; word-spacing: 0px\; -webkit-text-stroke-width: 0px\; white-space: normal\; background-color: rgb(255\, 255\, 255)\; text-decoration-thickness: initial\; text-decoration-style: initial\; text-decoration-color: initial\; list-style-position: inside\;'><li style="box-sizing: border-box\; margin: 0px\; padding: 0px 0px 7px 20px\; border: 0px\; vertical-align: middle\; list-style: none\; float: none\; position: relative\; font-weight: 400\;">How to become a Certified Director of Safety (CDS)</li><li style="box-sizing: border-box\; margin: 0px\; padding: 0px 0px 7px 20px\; border: 0px\; vertical-align: middle\; list-style: none\; float: none\; position: relative\; font-weight: 400\;">Safety is good business &ndash\; demonstrating the effect of safe operation on profitability.</li><li style="box-sizing: border-box\; margin: 0px\; padding: 0px 0px 7px 20px\; border: 0px\; vertical-align: middle\; list-style: none\; float: none\; position: relative\; font-weight: 400\;">The quality management approach to safety programs: how to identify the root cause of company<br style="box-sizing: border-box\; margin-bottom: 0px\;">safety problems and establish systems for continuous improvement.</li><li style="box-sizing: border-box\; margin: 0px\; padding: 0px 0px 7px 20px\; border: 0px\; vertical-align: middle\; list-style: none\; float: none\; position: relative\; font-weight: 400\;">Employee injury/illness management programs: focusing on critical safe behaviors to prevent or<br style="box-sizing: border-box\; margin-bottom: 0px\;">reduce injuries\; managing injury costs through early return to work programs.</li><li style="box-sizing: border-box\; margin: 0px\; padding: 0px 0px 7px 20px\; border: 0px\; vertical-align: middle\; list-style: none\; float: none\; position: relative\; font-weight: 400\;">Driver performance management: using quality tools to identify the root causes of Hours of<br style="box-sizing: border-box\; margin-bottom: 0px\;">Service violations and to analyze driver turnover.</li><li style="box-sizing: border-box\; margin: 0px\; padding: 0px 0px 7px 20px\; border: 0px\; vertical-align: middle\; list-style: none\; float: none\; position: relative\; font-weight: 400\;">Accident analysis and litigation: root cause analysis of accident trends\; a case study in accident<br style="box-sizing: border-box\; margin-bottom: 0px\;">litigation.</li><li style="box-sizing: border-box\; margin: 0px\; padding: 0px 0px 7px 20px\; border: 0px\; vertical-align: middle\; list-style: none\; float: none\; position: relative\; font-weight: 400\;">Implementing safety: how to implement the concepts introduced in this course in your own<br style="box-sizing: border-box\; margin-bottom: 0px\;">company.</li></ul><p>Together\, these courses build a strong foundation in fleet safety management and prepare participants to implement and oversee safety initiatives within their organizations. Participants will complete the CDS/CSS certification exam onsite the morning following the second course. Successful completion demonstrates a high level of knowledge and commitment to professional safety leadership in the trucking industry.</p><p><br></p><p>Complete your registration and pay for these courses on the <a fr-original-style="" href="https://natmi.org/training/course-schedule/?trumbaEmbed=view%3Devent%26eventid%3D172204617" style="user-select: auto\;">NATMI website</a></p><p><strong fr-original-style=""><a fr-original-style="" href="https://natmi.org/training/course-schedule/?trumbaEmbed=view%3Devent%26eventid%3D193049550" style="user-select: auto\;">Register Today!</a></strong></p></body></html>
LOCATION:2601 Whitehead Dr Lincoln 68521
UID:e.1326.1416623
SEQUENCE:3
DTSTAMP:20260421T010010Z
URL:https://events.nebtrucking.com/driver-services/Details/natmi-certified-director-of-safety-cds-1674450?sourceTypeId=Hub
END:VEVENT
END:VCALENDAR
